BEGIN:VCALENDAR
VERSION:2.0
PRODID:-//wp-events-plugin.com//7.2.3.1//EN
TZID:America/Sao_Paulo
X-WR-TIMEZONE:America/Sao_Paulo
BEGIN:VEVENT
UID:0-11@pcdob.org.br
DTSTART;TZID=America/Sao_Paulo:20250920T090000
DTEND;TZID=America/Sao_Paulo:20250920T130000
DTSTAMP:20250903T161420Z
URL:https://pcdob.org.br/events/conferencia-estadual-do-parana/
SUMMARY:Conferência Estadual do Paraná
DESCRIPTION:
LOCATION:Hotel Alladin\, Rua Lourenço Pinto\, 440 – Centro\, Curitiba\, 
 Paraná\, Brasil
X-APPLE-STRUCTURED-LOCATION;VALUE=URI;X-ADDRESS=Rua Lourenço Pinto\, 440 
 – Centro\, Curitiba\, Paraná\, Brasil;X-APPLE-RADIUS=100;X-TITLE=Hotel 
 Alladin:geo:0,0
END:VEVENT
BEGIN:VTIMEZONE
TZID:America/Sao_Paulo
X-LIC-LOCATION:America/Sao_Paulo
BEGIN:STANDARD
DTSTART:20240920T090000
TZOFFSETFROM:-0300
TZOFFSETTO:-0300
TZNAME:-03
END:STANDARD
END:VTIMEZONE
END:VCALENDAR